BEGIN:VCALENDAR
VERSION:2.0
PRODID:-//Town of Eagle Point - ECPv6.15.17.1//NONSGML v1.0//EN
CALSCALE:GREGORIAN
METHOD:PUBLISH
X-ORIGINAL-URL:https://townofeaglepointchippewa.com
X-WR-CALDESC:Events for Town of Eagle Point
REFRESH-INTERVAL;VALUE=DURATION:PT1H
X-Robots-Tag:noindex
X-PUBLISHED-TTL:PT1H
BEGIN:VTIMEZONE
TZID:America/Chicago
BEGIN:DAYLIGHT
TZOFFSETFROM:-0600
TZOFFSETTO:-0500
TZNAME:CDT
DTSTART:20160313T080000
END:DAYLIGHT
BEGIN:STANDARD
TZOFFSETFROM:-0500
TZOFFSETTO:-0600
TZNAME:CST
DTSTART:20161106T070000
END:STANDARD
BEGIN:DAYLIGHT
TZOFFSETFROM:-0600
TZOFFSETTO:-0500
TZNAME:CDT
DTSTART:20170312T080000
END:DAYLIGHT
BEGIN:STANDARD
TZOFFSETFROM:-0500
TZOFFSETTO:-0600
TZNAME:CST
DTSTART:20171105T070000
END:STANDARD
BEGIN:DAYLIGHT
TZOFFSETFROM:-0600
TZOFFSETTO:-0500
TZNAME:CDT
DTSTART:20180311T080000
END:DAYLIGHT
BEGIN:STANDARD
TZOFFSETFROM:-0500
TZOFFSETTO:-0600
TZNAME:CST
DTSTART:20181104T070000
END:STANDARD
END:VTIMEZONE
BEGIN:VEVENT
DTSTART;TZID=America/Chicago:20170518T170000
DTEND;TZID=America/Chicago:20170518T190000
DTSTAMP:20260420T131832
CREATED:20170518T220000Z
LAST-MODIFIED:20170518T220000Z
UID:10000499-1495126800-1495134000@townofeaglepointchippewa.com
SUMMARY:Xcel Energy Appreciation Picnic
DESCRIPTION:
URL:https://townofeaglepointchippewa.com/event/xcel-energy-appreciation-picnic/
CATEGORIES:Meetings
END:VEVENT
BEGIN:VEVENT
DTSTART;TZID=America/Chicago:20170523T110000
DTEND;TZID=America/Chicago:20170523T130000
DTSTAMP:20260420T131832
CREATED:20170523T160000Z
LAST-MODIFIED:20170523T160000Z
UID:10000500-1495537200-1495544400@townofeaglepointchippewa.com
SUMMARY:Open Book
DESCRIPTION:
URL:https://townofeaglepointchippewa.com/event/open-book-2/
CATEGORIES:Meetings
END:VEVENT
BEGIN:VEVENT
DTSTART;TZID=America/Chicago:20170523T130000
DTEND;TZID=America/Chicago:20170523T150000
DTSTAMP:20260420T131832
CREATED:20170523T180000Z
LAST-MODIFIED:20170523T180000Z
UID:10000511-1495544400-1495551600@townofeaglepointchippewa.com
SUMMARY:Board of Review
DESCRIPTION:
URL:https://townofeaglepointchippewa.com/event/board-of-review-2/
CATEGORIES:Meetings
END:VEVENT
END:VCALENDAR