BEGIN:VCALENDAR
VERSION:2.0
PRODID:-//Town of Eagle Point - ECPv6.15.17.1//NONSGML v1.0//EN
CALSCALE:GREGORIAN
METHOD:PUBLISH
X-WR-CALNAME:Town of Eagle Point
X-ORIGINAL-URL:https://townofeaglepointchippewa.com
X-WR-CALDESC:Events for Town of Eagle Point
REFRESH-INTERVAL;VALUE=DURATION:PT1H
X-Robots-Tag:noindex
X-PUBLISHED-TTL:PT1H
BEGIN:VTIMEZONE
TZID:America/Chicago
BEGIN:DAYLIGHT
TZOFFSETFROM:-0600
TZOFFSETTO:-0500
TZNAME:CDT
DTSTART:20180311T080000
END:DAYLIGHT
BEGIN:STANDARD
TZOFFSETFROM:-0500
TZOFFSETTO:-0600
TZNAME:CST
DTSTART:20181104T070000
END:STANDARD
BEGIN:DAYLIGHT
TZOFFSETFROM:-0600
TZOFFSETTO:-0500
TZNAME:CDT
DTSTART:20190310T080000
END:DAYLIGHT
BEGIN:STANDARD
TZOFFSETFROM:-0500
TZOFFSETTO:-0600
TZNAME:CST
DTSTART:20191103T070000
END:STANDARD
BEGIN:DAYLIGHT
TZOFFSETFROM:-0600
TZOFFSETTO:-0500
TZNAME:CDT
DTSTART:20200308T080000
END:DAYLIGHT
BEGIN:STANDARD
TZOFFSETFROM:-0500
TZOFFSETTO:-0600
TZNAME:CST
DTSTART:20201101T070000
END:STANDARD
END:VTIMEZONE
BEGIN:VEVENT
DTSTART;TZID=America/Chicago:20190211T190000
DTEND;TZID=America/Chicago:20190211T200000
DTSTAMP:20260425T203500
CREATED:20190130T182854Z
LAST-MODIFIED:20190130T182854Z
UID:10000501-1549911600-1549915200@townofeaglepointchippewa.com
SUMMARY:Planning Commission Meeting
DESCRIPTION:
URL:https://townofeaglepointchippewa.com/event/planning-commission-meeting-7/2019-02-11/
CATEGORIES:Plan Commission
END:VEVENT
BEGIN:VEVENT
DTSTART;TZID=America/Chicago:20190216T080000
DTEND;TZID=America/Chicago:20190216T130000
DTSTAMP:20260425T203500
CREATED:20190117T195730Z
LAST-MODIFIED:20190117T195846Z
UID:10000472-1550304000-1550322000@townofeaglepointchippewa.com
SUMMARY:Recycling Center 8 to 1
DESCRIPTION:
URL:https://townofeaglepointchippewa.com/event/recycling-center-8-to-1/2019-02-16/
CATEGORIES:Garbage & Recycling
END:VEVENT
BEGIN:VEVENT
DTSTART;TZID=America/Chicago:20190218T190000
DTEND;TZID=America/Chicago:20190218T210000
DTSTAMP:20260425T203500
CREATED:20190123T195142Z
LAST-MODIFIED:20191223T195324Z
UID:10000484-1550516400-1550523600@townofeaglepointchippewa.com
SUMMARY:Town Board Meeting
DESCRIPTION:
URL:https://townofeaglepointchippewa.com/event/town-board-meeting-5/2019-02-18/
CATEGORIES:Town Board
END:VEVENT
BEGIN:VEVENT
DTSTART;TZID=America/Chicago:20190219T070000
DTEND;TZID=America/Chicago:20190219T200000
DTSTAMP:20260425T203500
CREATED:20190117T195409Z
LAST-MODIFIED:20190206T192826Z
UID:10000671-1550559600-1550606400@townofeaglepointchippewa.com
SUMMARY:Spring Primary
DESCRIPTION:
URL:https://townofeaglepointchippewa.com/event/spring-primary-if-needed/
CATEGORIES:Election
END:VEVENT
END:VCALENDAR