BEGIN:VCALENDAR
VERSION:2.0
PRODID:-//Town of Eagle Point - ECPv6.15.17.1//NONSGML v1.0//EN
CALSCALE:GREGORIAN
METHOD:PUBLISH
X-WR-CALNAME:Town of Eagle Point
X-ORIGINAL-URL:https://townofeaglepointchippewa.com
X-WR-CALDESC:Events for Town of Eagle Point
REFRESH-INTERVAL;VALUE=DURATION:PT1H
X-Robots-Tag:noindex
X-PUBLISHED-TTL:PT1H
BEGIN:VTIMEZONE
TZID:America/Chicago
BEGIN:DAYLIGHT
TZOFFSETFROM:-0600
TZOFFSETTO:-0500
TZNAME:CDT
DTSTART:20180311T080000
END:DAYLIGHT
BEGIN:STANDARD
TZOFFSETFROM:-0500
TZOFFSETTO:-0600
TZNAME:CST
DTSTART:20181104T070000
END:STANDARD
BEGIN:DAYLIGHT
TZOFFSETFROM:-0600
TZOFFSETTO:-0500
TZNAME:CDT
DTSTART:20190310T080000
END:DAYLIGHT
BEGIN:STANDARD
TZOFFSETFROM:-0500
TZOFFSETTO:-0600
TZNAME:CST
DTSTART:20191103T070000
END:STANDARD
BEGIN:DAYLIGHT
TZOFFSETFROM:-0600
TZOFFSETTO:-0500
TZNAME:CDT
DTSTART:20200308T080000
END:DAYLIGHT
BEGIN:STANDARD
TZOFFSETFROM:-0500
TZOFFSETTO:-0600
TZNAME:CST
DTSTART:20201101T070000
END:STANDARD
END:VTIMEZONE
BEGIN:VEVENT
DTSTART;VALUE=DATE:20190902
DTEND;VALUE=DATE:20190903
DTSTAMP:20260425T114440
CREATED:20190829T171359Z
LAST-MODIFIED:20190829T171359Z
UID:10000692-1567382400-1567468799@townofeaglepointchippewa.com
SUMMARY:Office Closed
DESCRIPTION:
URL:https://townofeaglepointchippewa.com/event/office-closed-42/
CATEGORIES:Office Closed
END:VEVENT
BEGIN:VEVENT
DTSTART;VALUE=DATE:20190909
DTEND;VALUE=DATE:20190910
DTSTAMP:20260425T114440
CREATED:20190829T171330Z
LAST-MODIFIED:20190829T171330Z
UID:10000691-1567987200-1568073599@townofeaglepointchippewa.com
SUMMARY:NO Planning Commission Meeting
DESCRIPTION:
URL:https://townofeaglepointchippewa.com/event/no-planning-commission-meeting-21/
CATEGORIES:Plan Commission
END:VEVENT
BEGIN:VEVENT
DTSTART;TZID=America/Chicago:20190912T180000
DTEND;TZID=America/Chicago:20190912T190000
DTSTAMP:20260425T114440
CREATED:20190909T180537Z
LAST-MODIFIED:20190909T180558Z
UID:10000693-1568311200-1568314800@townofeaglepointchippewa.com
SUMMARY:Town Board Meeting (Employee Review-closed/200th St. Culvert/Ditching
DESCRIPTION:
URL:https://townofeaglepointchippewa.com/event/town-board-meeting-employee-review-closed-200th-st-culvert-ditching/
CATEGORIES:Town Board
END:VEVENT
BEGIN:VEVENT
DTSTART;TZID=America/Chicago:20190916T190000
DTEND;TZID=America/Chicago:20190916T210000
DTSTAMP:20260425T114440
CREATED:20190123T195142Z
LAST-MODIFIED:20191223T195324Z
UID:10000491-1568660400-1568667600@townofeaglepointchippewa.com
SUMMARY:Town Board Meeting
DESCRIPTION:
URL:https://townofeaglepointchippewa.com/event/town-board-meeting-5/2019-09-16/
CATEGORIES:Town Board
END:VEVENT
BEGIN:VEVENT
DTSTART;TZID=America/Chicago:20190921T080000
DTEND;TZID=America/Chicago:20190921T130000
DTSTAMP:20260425T114440
CREATED:20190117T195730Z
LAST-MODIFIED:20190117T195846Z
UID:10000479-1569052800-1569070800@townofeaglepointchippewa.com
SUMMARY:Recycling Center 8 to 1
DESCRIPTION:
URL:https://townofeaglepointchippewa.com/event/recycling-center-8-to-1/2019-09-21/
CATEGORIES:Garbage & Recycling
END:VEVENT
BEGIN:VEVENT
DTSTART;VALUE=DATE:20190926
DTEND;VALUE=DATE:20190927
DTSTAMP:20260425T114440
CREATED:20190923T174919Z
LAST-MODIFIED:20190923T174919Z
UID:10000695-1569456000-1569542399@townofeaglepointchippewa.com
SUMMARY:Office Closed
DESCRIPTION:
URL:https://townofeaglepointchippewa.com/event/office-closed-43/
CATEGORIES:Office Closed
END:VEVENT
END:VCALENDAR