BEGIN:VCALENDAR
VERSION:2.0
PRODID:-//Town of Eagle Point - ECPv6.15.17.1//NONSGML v1.0//EN
CALSCALE:GREGORIAN
METHOD:PUBLISH
X-WR-CALNAME:Town of Eagle Point
X-ORIGINAL-URL:https://townofeaglepointchippewa.com
X-WR-CALDESC:Events for Town of Eagle Point
REFRESH-INTERVAL;VALUE=DURATION:PT1H
X-Robots-Tag:noindex
X-PUBLISHED-TTL:PT1H
BEGIN:VTIMEZONE
TZID:America/Chicago
BEGIN:DAYLIGHT
TZOFFSETFROM:-0600
TZOFFSETTO:-0500
TZNAME:CDT
DTSTART:20190310T080000
END:DAYLIGHT
BEGIN:STANDARD
TZOFFSETFROM:-0500
TZOFFSETTO:-0600
TZNAME:CST
DTSTART:20191103T070000
END:STANDARD
BEGIN:DAYLIGHT
TZOFFSETFROM:-0600
TZOFFSETTO:-0500
TZNAME:CDT
DTSTART:20200308T080000
END:DAYLIGHT
BEGIN:STANDARD
TZOFFSETFROM:-0500
TZOFFSETTO:-0600
TZNAME:CST
DTSTART:20201101T070000
END:STANDARD
BEGIN:DAYLIGHT
TZOFFSETFROM:-0600
TZOFFSETTO:-0500
TZNAME:CDT
DTSTART:20210314T080000
END:DAYLIGHT
BEGIN:STANDARD
TZOFFSETFROM:-0500
TZOFFSETTO:-0600
TZNAME:CST
DTSTART:20211107T070000
END:STANDARD
END:VTIMEZONE
BEGIN:VEVENT
DTSTART;TZID=America/Chicago:20200914T190000
DTEND;TZID=America/Chicago:20200914T200000
DTSTAMP:20260422T194339
CREATED:20190130T182854Z
LAST-MODIFIED:20190130T182854Z
UID:10000509-1600110000-1600113600@townofeaglepointchippewa.com
SUMMARY:Planning Commission Meeting
DESCRIPTION:
URL:https://townofeaglepointchippewa.com/event/planning-commission-meeting-7/2020-09-14/
CATEGORIES:Plan Commission
END:VEVENT
BEGIN:VEVENT
DTSTART;VALUE=DATE:20200923
DTEND;VALUE=DATE:20200925
DTSTAMP:20260422T194339
CREATED:20200915T171636Z
LAST-MODIFIED:20200915T171636Z
UID:10000734-1600819200-1600991999@townofeaglepointchippewa.com
SUMMARY:Office Closed
DESCRIPTION:
URL:https://townofeaglepointchippewa.com/event/office-closed-49/
CATEGORIES:Office Closed
END:VEVENT
END:VCALENDAR