BEGIN:VCALENDAR
VERSION:2.0
PRODID:-//Town of Eagle Point - ECPv6.15.17.1//NONSGML v1.0//EN
CALSCALE:GREGORIAN
METHOD:PUBLISH
X-WR-CALNAME:Town of Eagle Point
X-ORIGINAL-URL:https://townofeaglepointchippewa.com
X-WR-CALDESC:Events for Town of Eagle Point
REFRESH-INTERVAL;VALUE=DURATION:PT1H
X-Robots-Tag:noindex
X-PUBLISHED-TTL:PT1H
BEGIN:VTIMEZONE
TZID:America/Chicago
BEGIN:DAYLIGHT
TZOFFSETFROM:-0600
TZOFFSETTO:-0500
TZNAME:CDT
DTSTART:20220313T080000
END:DAYLIGHT
BEGIN:STANDARD
TZOFFSETFROM:-0500
TZOFFSETTO:-0600
TZNAME:CST
DTSTART:20221106T070000
END:STANDARD
BEGIN:DAYLIGHT
TZOFFSETFROM:-0600
TZOFFSETTO:-0500
TZNAME:CDT
DTSTART:20230312T080000
END:DAYLIGHT
BEGIN:STANDARD
TZOFFSETFROM:-0500
TZOFFSETTO:-0600
TZNAME:CST
DTSTART:20231105T070000
END:STANDARD
BEGIN:DAYLIGHT
TZOFFSETFROM:-0600
TZOFFSETTO:-0500
TZNAME:CDT
DTSTART:20240310T080000
END:DAYLIGHT
BEGIN:STANDARD
TZOFFSETFROM:-0500
TZOFFSETTO:-0600
TZNAME:CST
DTSTART:20241103T070000
END:STANDARD
END:VTIMEZONE
BEGIN:VEVENT
DTSTART;VALUE=DATE:20230101
DTEND;VALUE=DATE:20230102
DTSTAMP:20260421T020541
CREATED:20221108T000626Z
LAST-MODIFIED:20221108T000626Z
UID:10000866-1672531200-1672617599@townofeaglepointchippewa.com
SUMMARY:Happy New Year
DESCRIPTION:
URL:https://townofeaglepointchippewa.com/event/happy-new-year-4/
CATEGORIES:Holidays
END:VEVENT
BEGIN:VEVENT
DTSTART;VALUE=DATE:20230109
DTEND;VALUE=DATE:20230110
DTSTAMP:20260421T020541
CREATED:20230106T152600Z
LAST-MODIFIED:20230106T152600Z
UID:10000870-1673222400-1673308799@townofeaglepointchippewa.com
SUMMARY:NO Plan Commission Meeting
DESCRIPTION:
URL:https://townofeaglepointchippewa.com/event/no-plan-commission-meeting-5/
CATEGORIES:Plan Commission
END:VEVENT
BEGIN:VEVENT
DTSTART;TZID=America/Chicago:20230121T090000
DTEND;TZID=America/Chicago:20230121T140000
DTSTAMP:20260421T020541
CREATED:20230118T222528Z
LAST-MODIFIED:20230118T222528Z
UID:10000871-1674291600-1674309600@townofeaglepointchippewa.com
SUMMARY:Recycling Center
DESCRIPTION:
URL:https://townofeaglepointchippewa.com/event/recycling-center-4/2023-01-21/
CATEGORIES:Garbage & Recycling
END:VEVENT
END:VCALENDAR