BEGIN:VCALENDAR
VERSION:2.0
PRODID:-//Town of Eagle Point - ECPv6.15.17.1//NONSGML v1.0//EN
CALSCALE:GREGORIAN
METHOD:PUBLISH
X-WR-CALNAME:Town of Eagle Point
X-ORIGINAL-URL:https://townofeaglepointchippewa.com
X-WR-CALDESC:Events for Town of Eagle Point
REFRESH-INTERVAL;VALUE=DURATION:PT1H
X-Robots-Tag:noindex
X-PUBLISHED-TTL:PT1H
BEGIN:VTIMEZONE
TZID:America/Chicago
BEGIN:DAYLIGHT
TZOFFSETFROM:-0600
TZOFFSETTO:-0500
TZNAME:CDT
DTSTART:20220313T080000
END:DAYLIGHT
BEGIN:STANDARD
TZOFFSETFROM:-0500
TZOFFSETTO:-0600
TZNAME:CST
DTSTART:20221106T070000
END:STANDARD
BEGIN:DAYLIGHT
TZOFFSETFROM:-0600
TZOFFSETTO:-0500
TZNAME:CDT
DTSTART:20230312T080000
END:DAYLIGHT
BEGIN:STANDARD
TZOFFSETFROM:-0500
TZOFFSETTO:-0600
TZNAME:CST
DTSTART:20231105T070000
END:STANDARD
BEGIN:DAYLIGHT
TZOFFSETFROM:-0600
TZOFFSETTO:-0500
TZNAME:CDT
DTSTART:20240310T080000
END:DAYLIGHT
BEGIN:STANDARD
TZOFFSETFROM:-0500
TZOFFSETTO:-0600
TZNAME:CST
DTSTART:20241103T070000
END:STANDARD
END:VTIMEZONE
BEGIN:VEVENT
DTSTART;VALUE=DATE:20230704
DTEND;VALUE=DATE:20230705
DTSTAMP:20260420T165410
CREATED:20230120T174234Z
LAST-MODIFIED:20230120T174234Z
UID:10000742-1688428800-1688515199@townofeaglepointchippewa.com
SUMMARY:Independence Day
DESCRIPTION:
URL:https://townofeaglepointchippewa.com/event/independence-day/
CATEGORIES:Holidays
END:VEVENT
BEGIN:VEVENT
DTSTART;TZID=America/Chicago:20230704T090000
DTEND;TZID=America/Chicago:20230704T140000
DTSTAMP:20260420T165410
CREATED:20230118T222643Z
LAST-MODIFIED:20230118T223056Z
UID:10000887-1688461200-1688479200@townofeaglepointchippewa.com
SUMMARY:Recycling Center
DESCRIPTION:
URL:https://townofeaglepointchippewa.com/event/re/2023-07-04/
CATEGORIES:Garbage & Recycling
END:VEVENT
BEGIN:VEVENT
DTSTART;TZID=America/Chicago:20230710T190000
DTEND;TZID=America/Chicago:20230710T200000
DTSTAMP:20260420T165410
CREATED:20230707T165229Z
LAST-MODIFIED:20230707T165259Z
UID:10000935-1689015600-1689019200@townofeaglepointchippewa.com
SUMMARY:Planning Commission Meeting
DESCRIPTION:
URL:https://townofeaglepointchippewa.com/event/planning-commission-meeting-11/
CATEGORIES:Plan Commission
END:VEVENT
BEGIN:VEVENT
DTSTART;TZID=America/Chicago:20230713T190000
DTEND;TZID=America/Chicago:20230713T200000
DTSTAMP:20260420T165410
CREATED:20230712T214205Z
LAST-MODIFIED:20230712T214205Z
UID:10000937-1689274800-1689278400@townofeaglepointchippewa.com
SUMMARY:Town Board Meeting
DESCRIPTION:
URL:https://townofeaglepointchippewa.com/event/town-board-meeting-33/
CATEGORIES:Town Board
END:VEVENT
BEGIN:VEVENT
DTSTART;TZID=America/Chicago:20230715T090000
DTEND;TZID=America/Chicago:20230715T140000
DTSTAMP:20260420T165410
CREATED:20230118T222528Z
LAST-MODIFIED:20230118T222528Z
UID:10000877-1689411600-1689429600@townofeaglepointchippewa.com
SUMMARY:Recycling Center
DESCRIPTION:
URL:https://townofeaglepointchippewa.com/event/recycling-center-4/2023-07-15/
CATEGORIES:Garbage & Recycling
END:VEVENT
END:VCALENDAR