BEGIN:VCALENDAR
VERSION:2.0
PRODID:-//Town of Eagle Point - ECPv6.15.17.1//NONSGML v1.0//EN
CALSCALE:GREGORIAN
METHOD:PUBLISH
X-WR-CALNAME:Town of Eagle Point
X-ORIGINAL-URL:https://townofeaglepointchippewa.com
X-WR-CALDESC:Events for Town of Eagle Point
REFRESH-INTERVAL;VALUE=DURATION:PT1H
X-Robots-Tag:noindex
X-PUBLISHED-TTL:PT1H
BEGIN:VTIMEZONE
TZID:America/Chicago
BEGIN:DAYLIGHT
TZOFFSETFROM:-0600
TZOFFSETTO:-0500
TZNAME:CDT
DTSTART:20220313T080000
END:DAYLIGHT
BEGIN:STANDARD
TZOFFSETFROM:-0500
TZOFFSETTO:-0600
TZNAME:CST
DTSTART:20221106T070000
END:STANDARD
BEGIN:DAYLIGHT
TZOFFSETFROM:-0600
TZOFFSETTO:-0500
TZNAME:CDT
DTSTART:20230312T080000
END:DAYLIGHT
BEGIN:STANDARD
TZOFFSETFROM:-0500
TZOFFSETTO:-0600
TZNAME:CST
DTSTART:20231105T070000
END:STANDARD
BEGIN:DAYLIGHT
TZOFFSETFROM:-0600
TZOFFSETTO:-0500
TZNAME:CDT
DTSTART:20240310T080000
END:DAYLIGHT
BEGIN:STANDARD
TZOFFSETFROM:-0500
TZOFFSETTO:-0600
TZNAME:CST
DTSTART:20241103T070000
END:STANDARD
END:VTIMEZONE
BEGIN:VEVENT
DTSTART;TZID=America/Chicago:20230804T090000
DTEND;TZID=America/Chicago:20230804T140000
DTSTAMP:20260420T111851
CREATED:20230118T222643Z
LAST-MODIFIED:20230118T223056Z
UID:10000888-1691139600-1691157600@townofeaglepointchippewa.com
SUMMARY:Recycling Center
DESCRIPTION:
URL:https://townofeaglepointchippewa.com/event/re/2023-08-04/
CATEGORIES:Garbage & Recycling
END:VEVENT
BEGIN:VEVENT
DTSTART;TZID=America/Chicago:20230807T170000
DTEND;TZID=America/Chicago:20230807T190000
DTSTAMP:20260420T111851
CREATED:20230712T214823Z
LAST-MODIFIED:20230712T214823Z
UID:10000939-1691427600-1691434800@townofeaglepointchippewa.com
SUMMARY:Open Book
DESCRIPTION:
URL:https://townofeaglepointchippewa.com/event/open-book-11/
CATEGORIES:Meetings
END:VEVENT
BEGIN:VEVENT
DTSTART;TZID=America/Chicago:20230814T180000
DTEND;TZID=America/Chicago:20230814T180000
DTSTAMP:20260420T111851
CREATED:20230809T195811Z
LAST-MODIFIED:20230809T195811Z
UID:10000934-1692036000-1692036000@townofeaglepointchippewa.com
SUMMARY:Town Board Meeting (Closed Meeting)
DESCRIPTION:
URL:https://townofeaglepointchippewa.com/event/town-board-meeting-closed-meeting-5/
CATEGORIES:Town Board
END:VEVENT
BEGIN:VEVENT
DTSTART;TZID=America/Chicago:20230814T190000
DTEND;TZID=America/Chicago:20230814T190000
DTSTAMP:20260420T111851
CREATED:20230809T195728Z
LAST-MODIFIED:20230809T195728Z
UID:10000936-1692039600-1692039600@townofeaglepointchippewa.com
SUMMARY:Planning Commission Meeting
DESCRIPTION:
URL:https://townofeaglepointchippewa.com/event/planning-commission-meeting-12/
CATEGORIES:Plan Commission
END:VEVENT
BEGIN:VEVENT
DTSTART;TZID=America/Chicago:20230819T090000
DTEND;TZID=America/Chicago:20230819T140000
DTSTAMP:20260420T111851
CREATED:20230118T222528Z
LAST-MODIFIED:20230118T222528Z
UID:10000878-1692435600-1692453600@townofeaglepointchippewa.com
SUMMARY:Recycling Center
DESCRIPTION:
URL:https://townofeaglepointchippewa.com/event/recycling-center-4/2023-08-19/
CATEGORIES:Garbage & Recycling
END:VEVENT
BEGIN:VEVENT
DTSTART;TZID=America/Chicago:20230821T170000
DTEND;TZID=America/Chicago:20230821T190000
DTSTAMP:20260420T111851
CREATED:20230712T214911Z
LAST-MODIFIED:20230712T214911Z
UID:10000938-1692637200-1692644400@townofeaglepointchippewa.com
SUMMARY:Board of Review
DESCRIPTION:
URL:https://townofeaglepointchippewa.com/event/board-of-review-11/
CATEGORIES:Meetings
END:VEVENT
BEGIN:VEVENT
DTSTART;TZID=America/Chicago:20230829T180000
DTEND;TZID=America/Chicago:20230829T190000
DTSTAMP:20260420T111851
CREATED:20230828T171127Z
LAST-MODIFIED:20230828T171127Z
UID:10000941-1693332000-1693335600@townofeaglepointchippewa.com
SUMMARY:Town Board Meeting
DESCRIPTION:
URL:https://townofeaglepointchippewa.com/event/town-board-meeting-34/
CATEGORIES:Town Board
END:VEVENT
END:VCALENDAR