BEGIN:VCALENDAR
VERSION:2.0
PRODID:-//Town of Eagle Point - ECPv6.15.17.1//NONSGML v1.0//EN
CALSCALE:GREGORIAN
METHOD:PUBLISH
X-ORIGINAL-URL:https://townofeaglepointchippewa.com
X-WR-CALDESC:Events for Town of Eagle Point
REFRESH-INTERVAL;VALUE=DURATION:PT1H
X-Robots-Tag:noindex
X-PUBLISHED-TTL:PT1H
BEGIN:VTIMEZONE
TZID:America/Chicago
BEGIN:DAYLIGHT
TZOFFSETFROM:-0600
TZOFFSETTO:-0500
TZNAME:CDT
DTSTART:20230312T080000
END:DAYLIGHT
BEGIN:STANDARD
TZOFFSETFROM:-0500
TZOFFSETTO:-0600
TZNAME:CST
DTSTART:20231105T070000
END:STANDARD
BEGIN:DAYLIGHT
TZOFFSETFROM:-0600
TZOFFSETTO:-0500
TZNAME:CDT
DTSTART:20240310T080000
END:DAYLIGHT
BEGIN:STANDARD
TZOFFSETFROM:-0500
TZOFFSETTO:-0600
TZNAME:CST
DTSTART:20241103T070000
END:STANDARD
BEGIN:DAYLIGHT
TZOFFSETFROM:-0600
TZOFFSETTO:-0500
TZNAME:CDT
DTSTART:20250309T080000
END:DAYLIGHT
BEGIN:STANDARD
TZOFFSETFROM:-0500
TZOFFSETTO:-0600
TZNAME:CST
DTSTART:20251102T070000
END:STANDARD
END:VTIMEZONE
BEGIN:VEVENT
DTSTART;TZID=America/Chicago:20240601T090000
DTEND;TZID=America/Chicago:20240601T140000
DTSTAMP:20260419T214909
CREATED:20240216T184304Z
LAST-MODIFIED:20240216T184304Z
UID:10000973-1717232400-1717250400@townofeaglepointchippewa.com
SUMMARY:Recycling Center
DESCRIPTION:
URL:https://townofeaglepointchippewa.com/event/recycling-center-8/2024-06-01/
CATEGORIES:Garbage & Recycling
END:VEVENT
BEGIN:VEVENT
DTSTART;VALUE=DATE:20240610
DTEND;VALUE=DATE:20240611
DTSTAMP:20260419T214909
CREATED:20240610T190405Z
LAST-MODIFIED:20240610T190405Z
UID:10001003-1717977600-1718063999@townofeaglepointchippewa.com
SUMMARY:NO Plan Commission Meeting
DESCRIPTION:
URL:https://townofeaglepointchippewa.com/event/no-plan-commission-meeting-14/
CATEGORIES:Plan Commission
END:VEVENT
BEGIN:VEVENT
DTSTART;TZID=America/Chicago:20240615T090000
DTEND;TZID=America/Chicago:20240615T140000
DTSTAMP:20260419T214909
CREATED:20240216T183918Z
LAST-MODIFIED:20240216T184124Z
UID:10000964-1718442000-1718460000@townofeaglepointchippewa.com
SUMMARY:Recycling Center
DESCRIPTION:
URL:https://townofeaglepointchippewa.com/event/recycling-center-7/2024-06-15/
CATEGORIES:Garbage & Recycling
END:VEVENT
BEGIN:VEVENT
DTSTART;TZID=America/Chicago:20240617T190000
DTEND;TZID=America/Chicago:20240617T200000
DTSTAMP:20260419T214909
CREATED:20240612T200206Z
LAST-MODIFIED:20240612T200206Z
UID:10001025-1718650800-1718654400@townofeaglepointchippewa.com
SUMMARY:Town Board Meeting
DESCRIPTION:
URL:https://townofeaglepointchippewa.com/event/town-board-meeting-29/2024-06-17/
CATEGORIES:Town Board
END:VEVENT
BEGIN:VEVENT
DTSTART;TZID=America/Chicago:20240617T200000
DTEND;TZID=America/Chicago:20240617T203000
DTSTAMP:20260419T214909
CREATED:20240612T195306Z
LAST-MODIFIED:20240612T195306Z
UID:10001004-1718654400-1718656200@townofeaglepointchippewa.com
SUMMARY:Town Board Meeting (Closed Meeting)
DESCRIPTION:
URL:https://townofeaglepointchippewa.com/event/town-board-meeting-closed-meeting-4/
CATEGORIES:Town Board
END:VEVENT
END:VCALENDAR