BEGIN:VCALENDAR
VERSION:2.0
PRODID:-//Town of Eagle Point - ECPv6.15.17.1//NONSGML v1.0//EN
CALSCALE:GREGORIAN
METHOD:PUBLISH
X-ORIGINAL-URL:https://townofeaglepointchippewa.com
X-WR-CALDESC:Events for Town of Eagle Point
REFRESH-INTERVAL;VALUE=DURATION:PT1H
X-Robots-Tag:noindex
X-PUBLISHED-TTL:PT1H
BEGIN:VTIMEZONE
TZID:America/Chicago
BEGIN:DAYLIGHT
TZOFFSETFROM:-0600
TZOFFSETTO:-0500
TZNAME:CDT
DTSTART:20230312T080000
END:DAYLIGHT
BEGIN:STANDARD
TZOFFSETFROM:-0500
TZOFFSETTO:-0600
TZNAME:CST
DTSTART:20231105T070000
END:STANDARD
BEGIN:DAYLIGHT
TZOFFSETFROM:-0600
TZOFFSETTO:-0500
TZNAME:CDT
DTSTART:20240310T080000
END:DAYLIGHT
BEGIN:STANDARD
TZOFFSETFROM:-0500
TZOFFSETTO:-0600
TZNAME:CST
DTSTART:20241103T070000
END:STANDARD
BEGIN:DAYLIGHT
TZOFFSETFROM:-0600
TZOFFSETTO:-0500
TZNAME:CDT
DTSTART:20250309T080000
END:DAYLIGHT
BEGIN:STANDARD
TZOFFSETFROM:-0500
TZOFFSETTO:-0600
TZNAME:CST
DTSTART:20251102T070000
END:STANDARD
END:VTIMEZONE
BEGIN:VEVENT
DTSTART;VALUE=DATE:20240704
DTEND;VALUE=DATE:20240705
DTSTAMP:20260419T204515
CREATED:20240703T181121Z
LAST-MODIFIED:20240703T181121Z
UID:10001033-1720051200-1720137599@townofeaglepointchippewa.com
SUMMARY:Happy Fourth of July
DESCRIPTION:
URL:https://townofeaglepointchippewa.com/event/happy-fourth-of-july/
CATEGORIES:Holidays
END:VEVENT
BEGIN:VEVENT
DTSTART;VALUE=DATE:20240704
DTEND;VALUE=DATE:20240706
DTSTAMP:20260419T204515
CREATED:20240703T181030Z
LAST-MODIFIED:20240703T181030Z
UID:10001032-1720051200-1720223999@townofeaglepointchippewa.com
SUMMARY:Office Closed
DESCRIPTION:
URL:https://townofeaglepointchippewa.com/event/office-closed-85/
CATEGORIES:Office Closed
END:VEVENT
BEGIN:VEVENT
DTSTART;TZID=America/Chicago:20240706T090000
DTEND;TZID=America/Chicago:20240706T140000
DTSTAMP:20260419T204515
CREATED:20240216T184304Z
LAST-MODIFIED:20240216T184304Z
UID:10000974-1720256400-1720274400@townofeaglepointchippewa.com
SUMMARY:Recycling Center
DESCRIPTION:
URL:https://townofeaglepointchippewa.com/event/recycling-center-8/2024-07-06/
CATEGORIES:Garbage & Recycling
END:VEVENT
BEGIN:VEVENT
DTSTART;TZID=America/Chicago:20240715T190000
DTEND;TZID=America/Chicago:20240715T200000
DTSTAMP:20260419T204515
CREATED:20240612T200206Z
LAST-MODIFIED:20240612T200206Z
UID:10001026-1721070000-1721073600@townofeaglepointchippewa.com
SUMMARY:Town Board Meeting
DESCRIPTION:
URL:https://townofeaglepointchippewa.com/event/town-board-meeting-29/2024-07-15/
CATEGORIES:Town Board
END:VEVENT
BEGIN:VEVENT
DTSTART;VALUE=DATE:20240717
DTEND;VALUE=DATE:20240720
DTSTAMP:20260419T204515
CREATED:20240715T154057Z
LAST-MODIFIED:20240715T154057Z
UID:10001034-1721174400-1721433599@townofeaglepointchippewa.com
SUMMARY:Office Closed
DESCRIPTION:
URL:https://townofeaglepointchippewa.com/event/office-closed-86/
CATEGORIES:Office Closed
END:VEVENT
BEGIN:VEVENT
DTSTART;TZID=America/Chicago:20240720T090000
DTEND;TZID=America/Chicago:20240720T140000
DTSTAMP:20260419T204515
CREATED:20240216T183918Z
LAST-MODIFIED:20240216T184124Z
UID:10000965-1721466000-1721484000@townofeaglepointchippewa.com
SUMMARY:Recycling Center
DESCRIPTION:
URL:https://townofeaglepointchippewa.com/event/recycling-center-7/2024-07-20/
CATEGORIES:Garbage & Recycling
END:VEVENT
END:VCALENDAR