BEGIN:VCALENDAR
VERSION:2.0
PRODID:-//Town of Eagle Point - ECPv6.15.17.1//NONSGML v1.0//EN
CALSCALE:GREGORIAN
METHOD:PUBLISH
X-ORIGINAL-URL:https://townofeaglepointchippewa.com
X-WR-CALDESC:Events for Town of Eagle Point
REFRESH-INTERVAL;VALUE=DURATION:PT1H
X-Robots-Tag:noindex
X-PUBLISHED-TTL:PT1H
BEGIN:VTIMEZONE
TZID:America/Chicago
BEGIN:DAYLIGHT
TZOFFSETFROM:-0600
TZOFFSETTO:-0500
TZNAME:CDT
DTSTART:20240310T080000
END:DAYLIGHT
BEGIN:STANDARD
TZOFFSETFROM:-0500
TZOFFSETTO:-0600
TZNAME:CST
DTSTART:20241103T070000
END:STANDARD
BEGIN:DAYLIGHT
TZOFFSETFROM:-0600
TZOFFSETTO:-0500
TZNAME:CDT
DTSTART:20250309T080000
END:DAYLIGHT
BEGIN:STANDARD
TZOFFSETFROM:-0500
TZOFFSETTO:-0600
TZNAME:CST
DTSTART:20251102T070000
END:STANDARD
BEGIN:DAYLIGHT
TZOFFSETFROM:-0600
TZOFFSETTO:-0500
TZNAME:CDT
DTSTART:20260308T080000
END:DAYLIGHT
BEGIN:STANDARD
TZOFFSETFROM:-0500
TZOFFSETTO:-0600
TZNAME:CST
DTSTART:20261101T070000
END:STANDARD
END:VTIMEZONE
BEGIN:VEVENT
DTSTART;TZID=America/Chicago:20250201T090000
DTEND;TZID=America/Chicago:20250201T140000
DTSTAMP:20260419T111101
CREATED:20240216T184304Z
LAST-MODIFIED:20240216T184304Z
UID:10000981-1738400400-1738418400@townofeaglepointchippewa.com
SUMMARY:Recycling Center
DESCRIPTION:
URL:https://townofeaglepointchippewa.com/event/recycling-center-8/2025-02-01/
CATEGORIES:Garbage & Recycling
END:VEVENT
BEGIN:VEVENT
DTSTART;TZID=America/Chicago:20250212T180000
DTEND;TZID=America/Chicago:20250212T200000
DTSTAMP:20260419T111101
CREATED:20250208T000358Z
LAST-MODIFIED:20250208T000457Z
UID:10001231-1739383200-1739390400@townofeaglepointchippewa.com
SUMMARY:Public Test of Voting Equipment
DESCRIPTION:Notice of Public Test of Voting Equipment \nTown of Eagle Point \nChippewa County \nNotice is hereby given by the Town of Eagle Point that a public test of the Clear Ballot Clear Cast and Clear Access voting equipment to be used in the \nFebruary 18\, 2025 Spring Primary will be conducted at the Town of Eagle Point at 14802 State Hwy 124\, Chippewa Falls\, WI  54729 \nWednesday February 12\, 2025 \nRoom Set up starts at 6:00 pm \nPublic test will follow \n14802 State Hwy 124 \n Chippewa Falls\, WI  54729 \n  \nThe test is open to the general public. \n  \nLaurie Hebert\, Clerk \nTown of Eagle Point \nPosted on Monday February 10\, 2025 \n  \nLocation Posted: \nEagle Point Town Hall \nKlinger Farm Market \nTown of Eagle Point website \n  \n  \n 
URL:https://townofeaglepointchippewa.com/event/public-test-of-voting-equipment-3/
CATEGORIES:Election
ATTACH;FMTTYPE=image/jpeg:https://townofeaglepointchippewa.com/wp-content/uploads/2025/02/ballot-box.jpg
END:VEVENT
BEGIN:VEVENT
DTSTART;TZID=America/Chicago:20250215T090000
DTEND;TZID=America/Chicago:20250215T140000
DTSTAMP:20260419T111101
CREATED:20250108T221427Z
LAST-MODIFIED:20250108T221427Z
UID:10001201-1739610000-1739628000@townofeaglepointchippewa.com
SUMMARY:Recycling Center
DESCRIPTION:
URL:https://townofeaglepointchippewa.com/event/recycling-center-10/2025-02-15/
CATEGORIES:Garbage & Recycling
END:VEVENT
BEGIN:VEVENT
DTSTART;TZID=America/Chicago:20250217T190000
DTEND;TZID=America/Chicago:20250217T200000
DTSTAMP:20260419T111101
CREATED:20250108T221714Z
LAST-MODIFIED:20250108T221714Z
UID:10001213-1739818800-1739822400@townofeaglepointchippewa.com
SUMMARY:Town Board Meeting
DESCRIPTION:
URL:https://townofeaglepointchippewa.com/event/town-board-meeting-40/2025-02-17/
CATEGORIES:Town Board
END:VEVENT
BEGIN:VEVENT
DTSTART;TZID=America/Chicago:20250218T070000
DTEND;TZID=America/Chicago:20250218T200000
DTSTAMP:20260419T111101
CREATED:20250121T215752Z
LAST-MODIFIED:20250121T215752Z
UID:10001224-1739862000-1739908800@townofeaglepointchippewa.com
SUMMARY:Spring Primary
DESCRIPTION:
URL:https://townofeaglepointchippewa.com/event/spring-primary-4/
CATEGORIES:Election
END:VEVENT
END:VCALENDAR