BEGIN:VCALENDAR
VERSION:2.0
PRODID:-//Town of Eagle Point - ECPv6.15.17.1//NONSGML v1.0//EN
CALSCALE:GREGORIAN
METHOD:PUBLISH
X-WR-CALNAME:Town of Eagle Point
X-ORIGINAL-URL:https://townofeaglepointchippewa.com
X-WR-CALDESC:Events for Town of Eagle Point
REFRESH-INTERVAL;VALUE=DURATION:PT1H
X-Robots-Tag:noindex
X-PUBLISHED-TTL:PT1H
BEGIN:VTIMEZONE
TZID:America/Chicago
BEGIN:DAYLIGHT
TZOFFSETFROM:-0600
TZOFFSETTO:-0500
TZNAME:CDT
DTSTART:20240310T080000
END:DAYLIGHT
BEGIN:STANDARD
TZOFFSETFROM:-0500
TZOFFSETTO:-0600
TZNAME:CST
DTSTART:20241103T070000
END:STANDARD
BEGIN:DAYLIGHT
TZOFFSETFROM:-0600
TZOFFSETTO:-0500
TZNAME:CDT
DTSTART:20250309T080000
END:DAYLIGHT
BEGIN:STANDARD
TZOFFSETFROM:-0500
TZOFFSETTO:-0600
TZNAME:CST
DTSTART:20251102T070000
END:STANDARD
BEGIN:DAYLIGHT
TZOFFSETFROM:-0600
TZOFFSETTO:-0500
TZNAME:CDT
DTSTART:20260308T080000
END:DAYLIGHT
BEGIN:STANDARD
TZOFFSETFROM:-0500
TZOFFSETTO:-0600
TZNAME:CST
DTSTART:20261101T070000
END:STANDARD
END:VTIMEZONE
BEGIN:VEVENT
DTSTART;TZID=America/Chicago:20250301T090000
DTEND;TZID=America/Chicago:20250301T140000
DTSTAMP:20260419T124152
CREATED:20240216T184304Z
LAST-MODIFIED:20240216T184304Z
UID:10000982-1740819600-1740837600@townofeaglepointchippewa.com
SUMMARY:Recycling Center
DESCRIPTION:
URL:https://townofeaglepointchippewa.com/event/recycling-center-8/2025-03-01/
CATEGORIES:Garbage & Recycling
END:VEVENT
BEGIN:VEVENT
DTSTART;VALUE=DATE:20250310
DTEND;VALUE=DATE:20250311
DTSTAMP:20260419T124152
CREATED:20250304T201412Z
LAST-MODIFIED:20250304T201412Z
UID:10001232-1741564800-1741651199@townofeaglepointchippewa.com
SUMMARY:NO Plan Commission Meeting
DESCRIPTION:
URL:https://townofeaglepointchippewa.com/event/no-plan-commission-meeting-19/
CATEGORIES:Plan Commission
END:VEVENT
BEGIN:VEVENT
DTSTART;TZID=America/Chicago:20250315T090000
DTEND;TZID=America/Chicago:20250315T140000
DTSTAMP:20260419T124152
CREATED:20250108T221427Z
LAST-MODIFIED:20250108T221427Z
UID:10001202-1742029200-1742047200@townofeaglepointchippewa.com
SUMMARY:Recycling Center
DESCRIPTION:
URL:https://townofeaglepointchippewa.com/event/recycling-center-10/2025-03-15/
CATEGORIES:Garbage & Recycling
END:VEVENT
BEGIN:VEVENT
DTSTART;TZID=America/Chicago:20250317T190000
DTEND;TZID=America/Chicago:20250317T200000
DTSTAMP:20260419T124152
CREATED:20250108T221714Z
LAST-MODIFIED:20250108T221714Z
UID:10001214-1742238000-1742241600@townofeaglepointchippewa.com
SUMMARY:Town Board Meeting
DESCRIPTION:
URL:https://townofeaglepointchippewa.com/event/town-board-meeting-40/2025-03-17/
CATEGORIES:Town Board
END:VEVENT
BEGIN:VEVENT
DTSTART;TZID=America/Chicago:20250318T100000
DTEND;TZID=America/Chicago:20250318T120000
DTSTAMP:20260419T124152
CREATED:20250313T165117Z
LAST-MODIFIED:20250313T165117Z
UID:10001234-1742292000-1742299200@townofeaglepointchippewa.com
SUMMARY:In Person Absentee Voting
DESCRIPTION:
URL:https://townofeaglepointchippewa.com/event/in-person-absentee-voting-6/
CATEGORIES:Election
END:VEVENT
BEGIN:VEVENT
DTSTART;TZID=America/Chicago:20250325T100000
DTEND;TZID=America/Chicago:20250325T120000
DTSTAMP:20260419T124152
CREATED:20250313T165200Z
LAST-MODIFIED:20250313T165200Z
UID:10001235-1742896800-1742904000@townofeaglepointchippewa.com
SUMMARY:In Person Absentee Voting
DESCRIPTION:
URL:https://townofeaglepointchippewa.com/event/in-person-absentee-voting-7/
CATEGORIES:Election
END:VEVENT
END:VCALENDAR